BEGIN:VCALENDAR
VERSION:2.0
PRODID:-//Osallisuuden aika - ECPv6.14.1//NONSGML v1.0//EN
CALSCALE:GREGORIAN
METHOD:PUBLISH
X-WR-CALNAME:Osallisuuden aika
X-ORIGINAL-URL:http://www.osallisuudenaika.fi
X-WR-CALDESC:Tapahtumat Osallisuuden aika
REFRESH-INTERVAL;VALUE=DURATION:PT1H
X-Robots-Tag:noindex
X-PUBLISHED-TTL:PT1H
BEGIN:VTIMEZONE
TZID:Europe/Helsinki
BEGIN:DAYLIGHT
TZOFFSETFROM:+0200
TZOFFSETTO:+0300
TZNAME:EEST
DTSTART:20260329T010000
END:DAYLIGHT
BEGIN:STANDARD
TZOFFSETFROM:+0300
TZOFFSETTO:+0200
TZNAME:EET
DTSTART:20261025T010000
END:STANDARD
END:VTIMEZONE
BEGIN:VEVENT
DTSTART;TZID=Europe/Helsinki:20260123T100000
DTEND;TZID=Europe/Helsinki:20260123T150000
DTSTAMP:20260422T203440
CREATED:20251215T104636Z
LAST-MODIFIED:20251215T104636Z
UID:2219-1769162400-1769180400@www.osallisuudenaika.fi
SUMMARY:Yhteislähtö Educa-messuille
DESCRIPTION:Lähdetään yhdessä tutustumaan ja verkostoitumaan Pohjoismaiden suurimpaan opetus- ja kasvatusalan tapahtuma Educaan! \nTilaisuus järjestetään Helsingin messukeskuksessa 23.1.–24.1.2026 ja OA tekee sinne yhdeslähdön 23.1 aamupäivällä. Lisää tietoa Kehittäjäryhmän viestintäkanavissa.
URL:http://www.osallisuudenaika.fi/event/yhteislahto-educa-messuille/
LOCATION:Helsinki
END:VEVENT
END:VCALENDAR