BEGIN:VCALENDAR
VERSION:2.0
PRODID:-//Osallisuuden aika - ECPv6.14.1//NONSGML v1.0//EN
CALSCALE:GREGORIAN
METHOD:PUBLISH
X-WR-CALNAME:Osallisuuden aika
X-ORIGINAL-URL:http://www.osallisuudenaika.fi
X-WR-CALDESC:Tapahtumat Osallisuuden aika
REFRESH-INTERVAL;VALUE=DURATION:PT1H
X-Robots-Tag:noindex
X-PUBLISHED-TTL:PT1H
BEGIN:VTIMEZONE
TZID:Europe/Helsinki
BEGIN:DAYLIGHT
TZOFFSETFROM:+0200
TZOFFSETTO:+0300
TZNAME:EEST
DTSTART:20260329T010000
END:DAYLIGHT
BEGIN:STANDARD
TZOFFSETFROM:+0300
TZOFFSETTO:+0200
TZNAME:EET
DTSTART:20261025T010000
END:STANDARD
END:VTIMEZONE
BEGIN:VEVENT
DTSTART;TZID=Europe/Helsinki:20260130T093000
DTEND;TZID=Europe/Helsinki:20260130T133000
DTSTAMP:20260422T202553
CREATED:20251215T104941Z
LAST-MODIFIED:20251215T104941Z
UID:2222-1769765400-1769779800@www.osallisuudenaika.fi
SUMMARY:OA-päivä
DESCRIPTION:Uusi yhteisöllinen OA-päivä järjestetään nyt ensimmäistä kertaa! Yhdistyksen nykytilaa ja tulevaisuutta hyvän ruoan äärellä tarkastelemassa organisaation henkilöstö ja hallitus\, toiminnassa mukana olevat nuoret\, yhdistyksen jäsenet ja OA:n Ystävät yhteisön jäsenet. Kaikki tahot kutsutaan tapahtumaan erikseen.
URL:http://www.osallisuudenaika.fi/event/oa-paiva/
END:VEVENT
END:VCALENDAR