BEGIN:VCALENDAR
VERSION:2.0
PRODID:-//Osallisuuden aika - ECPv6.14.1//NONSGML v1.0//EN
CALSCALE:GREGORIAN
METHOD:PUBLISH
X-ORIGINAL-URL:http://www.osallisuudenaika.fi
X-WR-CALDESC:Tapahtumat Osallisuuden aika
REFRESH-INTERVAL;VALUE=DURATION:PT1H
X-Robots-Tag:noindex
X-PUBLISHED-TTL:PT1H
BEGIN:VTIMEZONE
TZID:Europe/Helsinki
BEGIN:DAYLIGHT
TZOFFSETFROM:+0200
TZOFFSETTO:+0300
TZNAME:EEST
DTSTART:20260329T010000
END:DAYLIGHT
BEGIN:STANDARD
TZOFFSETFROM:+0300
TZOFFSETTO:+0200
TZNAME:EET
DTSTART:20261025T010000
END:STANDARD
END:VTIMEZONE
BEGIN:VEVENT
DTSTART;TZID=Europe/Helsinki:20260205T170000
DTEND;TZID=Europe/Helsinki:20260205T190000
DTSTAMP:20260422T203950
CREATED:20260202T073844Z
LAST-MODIFIED:20260202T074014Z
UID:2244-1770310800-1770318000@www.osallisuudenaika.fi
SUMMARY:YYP-Ryhmä
DESCRIPTION:YYP -ryhmä on osa Moniperheet ry:n Yhteistyössä yhdenvertaisiin perhepalveluihin -hanketta ja sen tehtävänä on kehittää lastensuojelua ja perhepalveluita kokemustiedolla monikulttuurisesta näkökulmasta. Ryhmään ovat tervetulleita kaikki nuoret ja nuoret aikuiset\, joilla on ollut lastensuojelun asiakkuus jossain elämänsä vaiheessa ja joilta löytyy halua kehittää lastensuojelua monikulttuurisesta näkökulmasta. \nMilloin? 5.2.2026 klo 17:00-19:00 \nMissä: Kulttuurikeskus Caisa\, Kaikukatu 4 B\, 00530 Helsinki \nKenelle: 13-29-vuotiaille nuorille ja nuorille aikuisille\, joilla on kokemusta lastensuojelusta tai muista perhepalveluista monikulttuurisena asiakkaana \nLisätietoa: Ryhmä on avoin myös uusille nuorille!  Jos kiinnostuit\, jätä yhteystietosi niin olemme haluamallasi tavalla yhteydessä! Voit myös kysyä lisätietoja hanketyöntekijä Tuitu Tynjälältä (tuitu.tynjala@osallisuudenaika.fi / +358 40 5058808)
URL:http://www.osallisuudenaika.fi/event/2244/
LOCATION:Kulttuurikeskus Caisa\, Kaikukatu 4 B\, Helsinki\, 00530
END:VEVENT
BEGIN:VEVENT
DTSTART;TZID=Europe/Helsinki:20260210T170000
DTEND;TZID=Europe/Helsinki:20260210T190000
DTSTAMP:20260422T203950
CREATED:20260202T071327Z
LAST-MODIFIED:20260202T074252Z
UID:2238-1770742800-1770750000@www.osallisuudenaika.fi
SUMMARY:Kehittäjäryhmän tapaaminen
DESCRIPTION:Ryhmään ovat tervetulleita kaikki nuoret ja nuoret aikuiset\, joilla on ollut lastensuojelun asiakkuus jossain elämänsä vaiheessa ja joilta löytyy halua kehittää lastensuojelua. Ryhmäkerroilla työskennellään jonkun lastensuojelua koskettavan teeman parissa. Työskentely tapahtuu ohjatusti keskustellen tai muita menetelmiä käyttäen nuorille luontevin tavoin. Ryhmäkerroilla tarjotaan myös aina illallinen. \nRyhmän tuottama tieto on OA:n vaikuttamistyön ydintä\, ja sitä viedään eteenpäin eri tahoille. Kehittäjäryhmien käsittelemiä teemoja ovat vuosien saatossa olleet mm. nepsyoireilu\, hyvä sijaishuoltopaikka\, koulun ja lastensuojelun välisen yhteistyön kehittäminen sekä toimiva päihdekasvatus. Kehittäjäryhmä on myös osallistunut muun muassa THL:n lastensuojelun käsikirjan laatimiseen\, OA:n somejulkaisuiden tekemiseen sekä mielipidekirjoitusten kirjoittamiseen. Kehittäjäryhmässä käyminen toimii myös halukkaille osallistujille väylänä kokemusasiantuntijana toimimiseen. \nMilloin? 10.2.2025 klo 17-19\n \nMissä: Innovation Home Kamppi\, Kansakoulukatu 3\, 00100 Helsinki \nKenelle: 13-29-vuotiaille nuorille ja nuorille aikuisille\, joilla on kokemusta lastensuojelusta \nLisätietoa: Ryhmä on avoin myös uusille nuorille!  Jos kiinnostuit\, laita meille viestiä alla olevan lomakkeen kautta\, niin olemme haluamallasi tavalla yhteydessä! \n\n Go back  Your message has been sent\n\n\n				\n					\n					\n				\n			\n\n\n\nNimi(Vaaditaan)\n\n \n			\n				\n					\n						\n						\n						\n					\n					Warning\n				\n				\n			 \n	\n\n\nSähköpostiosoite(Vaaditaan)\n\n \n			\n				\n					\n						\n						\n						\n					\n					Warning\n				\n				\n			 \n	\n\n\nViesti\n\n \n			\n				\n					\n						\n						\n						\n					\n					Warning\n				\n				\n			\n	\n	\nWarning.\n				\n				\n				\n					\n				\n						Lähetä		\n		\n		\n	 \nΔ
URL:http://www.osallisuudenaika.fi/event/kehittajaryhman-tapaaminen/
LOCATION:Innovation Home Kamppi\, Kansakoulukatu 3\, Helsinki\, 00100\, Suomi
END:VEVENT
BEGIN:VEVENT
DTSTART;TZID=Europe/Helsinki:20260220T100000
DTEND;TZID=Europe/Helsinki:20260220T160000
DTSTAMP:20260422T203950
CREATED:20260202T072655Z
LAST-MODIFIED:20260202T073911Z
UID:2240-1771581600-1771603200@www.osallisuudenaika.fi
SUMMARY:Talviretki Tuusulanjärvelle!
DESCRIPTION:OA järjestää Kehittäjäryhmän jäsenille hiihtolomaviikon perjantaina talvisen retken Tuusulanjärvelle. Mahdollisuus luisteluun\, potkukelkkailuun tai kävelyyn talvisessa maisemassa jäällä. Jokaiseen retkeen kuuluu myös tietysti evästauko! \nMilloin? 20.2.2026 klo 17-19.30\n \nMissä: Tuusulanjärvi \nKenelle: Kehittäjäryhmätoiminnassa oleville nuorille \nLisätietoja:Ryhmäläisille tiedotetaan retkestä OA:n sisäisissä viestintäkanavissa
URL:http://www.osallisuudenaika.fi/event/talviretki-tuusulanjarvelle/
END:VEVENT
BEGIN:VEVENT
DTSTART;TZID=Europe/Helsinki:20260224T170000
DTEND;TZID=Europe/Helsinki:20260224T190000
DTSTAMP:20260422T203950
CREATED:20260202T073627Z
LAST-MODIFIED:20260202T074208Z
UID:2242-1771952400-1771959600@www.osallisuudenaika.fi
SUMMARY:OA Iltakoulu
DESCRIPTION:Iltakoulut ovat uusi osa OA:n nuorille järjestettävää kehittäjäryhmätoimintaa. Tarkoitus on luoda sopiva sekoitus rentoa illallispöytäkeskustelua\, Powerpoint-iltaa ja kehittäjäryhmäkertaa. Halukkaat osallistujat saavat tulla iltaan kertomaan itseään kiinnostavasta aiheesta\, vetämään lyhyttä työpajaa tai nostamaan yhdessä pohdiskeltavan aiheen keskusteluun. Tavoitteena on päästä oppimaan toisiltamme. \nMilloin? 24.2.2026 klo 17:00-19:00 \nMissä: Innovation Home Kamppi\, Kansakoulukatu 3 \nKenelle: 13-29-vuotiaille nuorille ja nuorille aikuisille\, joilla on kokemusta lastensuojelusta \nLisätietoa: Ryhmä on avoin myös uusille nuorille!  Jos kiinnostuit\, laita meille viestiä alla olevan lomakkeen kautta\, niin olemme haluamallasi tavalla yhteydessä! \n\n Go back  Your message has been sent\n\n\n				\n					\n					\n				\n			\n\n\n\nNimi(Vaaditaan)\n\n \n			\n				\n					\n						\n						\n						\n					\n					Warning\n				\n				\n			 \n	\n\n\nSähköpostiosoite(Vaaditaan)\n\n \n			\n				\n					\n						\n						\n						\n					\n					Warning\n				\n				\n			 \n	\n\n\nViesti\n\n \n			\n				\n					\n						\n						\n						\n					\n					Warning\n				\n				\n			\n	\n	\nWarning.\n				\n				\n				\n					\n				\n						Lähetä		\n		\n		\n	 \nΔ
URL:http://www.osallisuudenaika.fi/event/oa-iltakoulu/
LOCATION:Innovation Home Kamppi\, Kansakoulukatu 3\, Helsinki\, 00100\, Suomi
END:VEVENT
END:VCALENDAR