BEGIN:VCALENDAR
VERSION:2.0
PRODID:-//Osallisuuden aika - ECPv6.14.1//NONSGML v1.0//EN
CALSCALE:GREGORIAN
METHOD:PUBLISH
X-ORIGINAL-URL:http://www.osallisuudenaika.fi
X-WR-CALDESC:Tapahtumat Osallisuuden aika
REFRESH-INTERVAL;VALUE=DURATION:PT1H
X-Robots-Tag:noindex
X-PUBLISHED-TTL:PT1H
BEGIN:VTIMEZONE
TZID:Europe/Helsinki
BEGIN:DAYLIGHT
TZOFFSETFROM:+0200
TZOFFSETTO:+0300
TZNAME:EEST
DTSTART:20260329T010000
END:DAYLIGHT
BEGIN:STANDARD
TZOFFSETFROM:+0300
TZOFFSETTO:+0200
TZNAME:EET
DTSTART:20261025T010000
END:STANDARD
END:VTIMEZONE
BEGIN:VEVENT
DTSTART;TZID=Europe/Helsinki:20260305T170000
DTEND;TZID=Europe/Helsinki:20260305T193000
DTSTAMP:20260422T222737
CREATED:20260220T083738Z
LAST-MODIFIED:20260227T122954Z
UID:2306-1772730000-1772739000@www.osallisuudenaika.fi
SUMMARY:Dialogi-ilta - Ylilääkitäänkö lastensuojelussa?
DESCRIPTION:Dialogi-illoissa lastensuojelutaustaiset nuoret kohtaavat ammattilaisia\, päättäjiä\, asiantuntijoita tai muita tiettyyn aiheen ympäriltä kutsuttuja aikuisia Osallisuuden ajan työntekijöiden ohjaamassa keskustelutilaisuudessa. Yhteisen dialogin kautta kuulemme kaikkia koskettavaan aiheeseen tai ilmiöön uusia näkökulmia ja opimme uutta toisiltamme. \nMaaliskuun dialogi-illassa pohdimme\, ylilääkitäänkö lastensuojelussa. Osallisuuden ajan nuoret nostivat viime syksynä valvontaa ja vaikuttavuutta koskevassa keskustelussa esille runsaan lääkitsemisen sijaishuollossa. Ajatuksia herättivät muun muassa kysymykset siitä\, vaikuttavatko nuorisopsykiatrian heikot resurssit lääkehoidon laatuun\, mikä vaikutus lääkehoitoon on medikalisoivalla keskustelukulttuurilla\, ja millaista on asiakkaan näkökulmasta eettinen lääkehoito ja sen valvonta. Dialogi-illassa yhteistä ymmärrystä rakennetaan kokemusasiantuntijuuden\, valvonnan\, terveydenhuollon sekä tutkimuksen näkökulmista. Illan keskusteluista kootaan julkaisu Osallisuuden ajan verkkosivuille. \nMilloin? 5.3.2025 klo 17-19.30\n \nMissä? Innovation Home Kamppi\, Kansakoulukatu 3\, 00100 Helsinki \nKenelle? 13-29-vuotiaille nuorille ja nuorille aikuisille\, joilla on kokemusta lastensuojelusta \nIlmoittaudu tapahtumaan mukaan täältä.
URL:http://www.osallisuudenaika.fi/event/dialogi-ilta-ylilaakitaanko-lastensuojelussa/
LOCATION:Innovation Home Kamppi\, Kansakoulukatu 3\, Helsinki\, 00100\, Suomi
END:VEVENT
BEGIN:VEVENT
DTSTART;TZID=Europe/Helsinki:20260310T170000
DTEND;TZID=Europe/Helsinki:20260310T193000
DTSTAMP:20260422T222737
CREATED:20260227T121413Z
LAST-MODIFIED:20260227T121413Z
UID:2313-1773162000-1773171000@www.osallisuudenaika.fi
SUMMARY:Nuorten kehittäjäryhmä
DESCRIPTION:Ryhmään ovat tervetulleita kaikki nuoret ja nuoret aikuiset\, joilla on ollut lastensuojelun asiakkuus jossain elämänsä vaiheessa ja joilta löytyy halua kehittää lastensuojelua. Ryhmäkerroilla työskennellään jonkun lastensuojelua koskettavan teeman parissa. Työskentely tapahtuu ohjatusti keskustellen tai muita menetelmiä käyttäen nuorille luontevin tavoin. Ryhmäkerroilla tarjotaan myös aina illallinen. \nRyhmän tuottama tieto on OA:n vaikuttamistyön ydintä\, ja sitä viedään eteenpäin eri tahoille. Kehittäjäryhmien käsittelemiä teemoja ovat vuosien saatossa olleet mm. nepsyoireilu\, hyvä sijaishuoltopaikka\, koulun ja lastensuojelun välisen yhteistyön kehittäminen sekä toimiva päihdekasvatus. Kehittäjäryhmä on myös osallistunut muun muassa THL:n lastensuojelun käsikirjan laatimiseen\, OA:n somejulkaisuiden tekemiseen sekä mielipidekirjoitusten kirjoittamiseen. Kehittäjäryhmässä käyminen toimii myös halukkaille osallistujille väylänä kokemusasiantuntijana toimimiseen. \nMilloin? 10.3.2026 klo 17.00-19.30\n \nMissä: Innovation Home Kamppi\, Kansakoulukatu 3\, 00100 Helsinki \nKenelle: Nuorille ja nuorille aikuisille\, joilla on kokemusta lastensuojelusta \nLisätietoa: Ryhmä on avoin myös uusille nuorille!  Jos kiinnostuit\, laita meille viestiä alla olevan lomakkeen kautta\, niin olemme haluamallasi tavalla yhteydessä! \nPlease enable JavaScript in your browser to complete this form.Please enable JavaScript in your browser to complete this form.Nimi *Ikä *Sähköposti *Puhelinnumero *Comment or MessageSubmit
URL:http://www.osallisuudenaika.fi/event/nuorten-kehittajaryhma-3/
LOCATION:Innovation Home Kamppi\, Kansakoulukatu 3\, Helsinki\, 00100\, Suomi
END:VEVENT
BEGIN:VEVENT
DTSTART;TZID=Europe/Helsinki:20260324T170000
DTEND;TZID=Europe/Helsinki:20260324T193000
DTSTAMP:20260422T222737
CREATED:20260227T121647Z
LAST-MODIFIED:20260227T121647Z
UID:2315-1774371600-1774380600@www.osallisuudenaika.fi
SUMMARY:Iltakoulu
DESCRIPTION:Iltakoulut ovat uusi osa OA:n nuorille järjestettävää kehittäjäryhmätoimintaa. Tarkoitus on luoda sopiva sekoitus rentoa illallispöytäkeskustelua\, Powerpoint-iltaa ja kehittäjäryhmäkertaa. Halukkaat osallistujat saavat tulla iltaan kertomaan itseään kiinnostavasta aiheesta\, vetämään lyhyttä työpajaa tai nostamaan yhdessä pohdiskeltavan aiheen keskusteluun. Tavoitteena on päästä oppimaan toisiltamme. \nMilloin? 24.3.2026 klo 17.00-19.30 \nMissä: Innovation Home Kamppi\, Kansakoulukatu 3 \nKenelle: 13-29-vuotiaille nuorille ja nuorille aikuisille\, joilla on kokemusta lastensuojelusta \nLisätietoa: Ryhmä on avoin myös uusille nuorille!  Jos kiinnostuit\, laita meille viestiä alla olevan lomakkeen kautta\, niin olemme haluamallasi tavalla yhteydessä! \nPlease enable JavaScript in your browser to complete this form.Please enable JavaScript in your browser to complete this form.Nimi *Ikä *Sähköposti *Puhelinnumero *Comment or MessageSubmit
URL:http://www.osallisuudenaika.fi/event/iltakoulu/
LOCATION:Innovation Home Kamppi\, Kansakoulukatu 3\, Helsinki\, 00100\, Suomi
END:VEVENT
END:VCALENDAR