BEGIN:VCALENDAR
VERSION:2.0
PRODID:-//Osallisuuden aika - ECPv6.14.1//NONSGML v1.0//EN
CALSCALE:GREGORIAN
METHOD:PUBLISH
X-ORIGINAL-URL:http://www.osallisuudenaika.fi
X-WR-CALDESC:Tapahtumat Osallisuuden aika
REFRESH-INTERVAL;VALUE=DURATION:PT1H
X-Robots-Tag:noindex
X-PUBLISHED-TTL:PT1H
BEGIN:VTIMEZONE
TZID:Europe/Helsinki
BEGIN:DAYLIGHT
TZOFFSETFROM:+0200
TZOFFSETTO:+0300
TZNAME:EEST
DTSTART:20260329T010000
END:DAYLIGHT
BEGIN:STANDARD
TZOFFSETFROM:+0300
TZOFFSETTO:+0200
TZNAME:EET
DTSTART:20261025T010000
END:STANDARD
END:VTIMEZONE
BEGIN:VEVENT
DTSTART;TZID=Europe/Helsinki:20260505T170000
DTEND;TZID=Europe/Helsinki:20260505T193000
DTSTAMP:20260423T013832
CREATED:20260227T122400Z
LAST-MODIFIED:20260227T122400Z
UID:2324-1778000400-1778009400@www.osallisuudenaika.fi
SUMMARY:Nuorten kehittäjäryhmä
DESCRIPTION:Ryhmään ovat tervetulleita kaikki nuoret ja nuoret aikuiset\, joilla on ollut lastensuojelun asiakkuus jossain elämänsä vaiheessa ja joilta löytyy halua kehittää lastensuojelua. Ryhmäkerroilla työskennellään jonkun lastensuojelua koskettavan teeman parissa. Työskentely tapahtuu ohjatusti keskustellen tai muita menetelmiä käyttäen nuorille luontevin tavoin. Ryhmäkerroilla tarjotaan myös aina illallinen. \nRyhmän tuottama tieto on OA:n vaikuttamistyön ydintä\, ja sitä viedään eteenpäin eri tahoille. Kehittäjäryhmien käsittelemiä teemoja ovat vuosien saatossa olleet mm. nepsyoireilu\, hyvä sijaishuoltopaikka\, koulun ja lastensuojelun välisen yhteistyön kehittäminen sekä toimiva päihdekasvatus. Kehittäjäryhmä on myös osallistunut muun muassa THL:n lastensuojelun käsikirjan laatimiseen\, OA:n somejulkaisuiden tekemiseen sekä mielipidekirjoitusten kirjoittamiseen. Kehittäjäryhmässä käyminen toimii myös halukkaille osallistujille väylänä kokemusasiantuntijana toimimiseen. \nMilloin? 5.5.2026 klo 17.00-19.30\n \nMissä: Innovation Home Kamppi\, Kansakoulukatu 3\, 00100 Helsinki \nKenelle: Nuorille ja nuorille aikuisille\, joilla on kokemusta lastensuojelusta \nLisätietoa: Ryhmä on avoin myös uusille nuorille!  Jos kiinnostuit\, laita meille viestiä alla olevan lomakkeen kautta\, niin olemme haluamallasi tavalla yhteydessä! \nPlease enable JavaScript in your browser to complete this form.Please enable JavaScript in your browser to complete this form.Nimi *Ikä *Sähköposti *Puhelinnumero *Comment or MessageSubmit
URL:http://www.osallisuudenaika.fi/event/nuorten-kehittajaryhma-5/
LOCATION:Innovation Home Kamppi\, Kansakoulukatu 3\, Helsinki\, 00100\, Suomi
END:VEVENT
BEGIN:VEVENT
DTSTART;TZID=Europe/Helsinki:20260514T170000
DTEND;TZID=Europe/Helsinki:20260514T193000
DTSTAMP:20260423T013832
CREATED:20260227T122601Z
LAST-MODIFIED:20260227T122601Z
UID:2327-1778778000-1778787000@www.osallisuudenaika.fi
SUMMARY:Dialogi-ilta
DESCRIPTION:Dialogi-illoissa lastensuojelutaustaiset nuoret kohtaavat ammattilaisia\, päättäjiä\, asiantuntijoita tai muita tiettyyn aiheen ympäriltä kutsuttuja aikuisia Osallisuuden ajan työntekijöiden ohjaamassa keskustelutilaisuudessa. Yhteisen dialogin kautta kuulemme kaikkia koskettavaan aiheeseen tai ilmiöön uusia näkökulmia ja opimme uutta toisiltamme. \nMilloin? 14.5.2025 klo 17-19.30\n \nMissä? Innovation Home Kamppi\, Kansakoulukatu 3\, 00100 Helsinki \nKenelle? 13-29-vuotiaille nuorille ja nuorille aikuisille\, joilla on kokemusta lastensuojelusta
URL:http://www.osallisuudenaika.fi/event/dialogi-ilta-7/
LOCATION:Innovation Home Kamppi\, Kansakoulukatu 3\, Helsinki\, 00100\, Suomi
END:VEVENT
BEGIN:VEVENT
DTSTART;TZID=Europe/Helsinki:20260519T170000
DTEND;TZID=Europe/Helsinki:20260519T193000
DTSTAMP:20260423T013832
CREATED:20260227T122727Z
LAST-MODIFIED:20260227T122727Z
UID:2329-1779210000-1779219000@www.osallisuudenaika.fi
SUMMARY:Nuorten kehittäjäryhmä
DESCRIPTION:Ryhmään ovat tervetulleita kaikki nuoret ja nuoret aikuiset\, joilla on ollut lastensuojelun asiakkuus jossain elämänsä vaiheessa ja joilta löytyy halua kehittää lastensuojelua. Ryhmäkerroilla työskennellään jonkun lastensuojelua koskettavan teeman parissa. Työskentely tapahtuu ohjatusti keskustellen tai muita menetelmiä käyttäen nuorille luontevin tavoin. Ryhmäkerroilla tarjotaan myös aina illallinen. \nRyhmän tuottama tieto on OA:n vaikuttamistyön ydintä\, ja sitä viedään eteenpäin eri tahoille. Kehittäjäryhmien käsittelemiä teemoja ovat vuosien saatossa olleet mm. nepsyoireilu\, hyvä sijaishuoltopaikka\, koulun ja lastensuojelun välisen yhteistyön kehittäminen sekä toimiva päihdekasvatus. Kehittäjäryhmä on myös osallistunut muun muassa THL:n lastensuojelun käsikirjan laatimiseen\, OA:n somejulkaisuiden tekemiseen sekä mielipidekirjoitusten kirjoittamiseen. Kehittäjäryhmässä käyminen toimii myös halukkaille osallistujille väylänä kokemusasiantuntijana toimimiseen. \nMilloin? 19.5.2026 klo 17.00-19.30\n \nMissä: Innovation Home Kamppi\, Kansakoulukatu 3\, 00100 Helsinki \nKenelle: Nuorille ja nuorille aikuisille\, joilla on kokemusta lastensuojelusta \nLisätietoa: Ryhmä on avoin myös uusille nuorille! Jos kiinnostuit\, laita meille viestiä alla olevan lomakkeen kautta\, niin olemme haluamallasi tavalla yhteydessä! \nPlease enable JavaScript in your browser to complete this form.Please enable JavaScript in your browser to complete this form.Nimi *Ikä *Sähköposti *Puhelinnumero *Comment or MessageSubmit
URL:http://www.osallisuudenaika.fi/event/nuorten-kehittajaryhma-6/
LOCATION:Innovation Home Kamppi\, Kansakoulukatu 3\, Helsinki\, 00100\, Suomi
END:VEVENT
END:VCALENDAR